BEGIN:VCALENDAR
VERSION:2.0
PRODID:-//Dr Brijesh Kumar,  Personal Page - ECPv6.12.0//NONSGML v1.0//EN
CALSCALE:GREGORIAN
METHOD:PUBLISH
X-WR-CALNAME:Dr Brijesh Kumar,  Personal Page
X-ORIGINAL-URL:http://drbrijeshkumar.com
X-WR-CALDESC:Events for Dr Brijesh Kumar,  Personal Page
REFRESH-INTERVAL;VALUE=DURATION:PT1H
X-Robots-Tag:noindex
X-PUBLISHED-TTL:PT1H
BEGIN:VTIMEZONE
TZID:UTC
BEGIN:STANDARD
TZOFFSETFROM:+0000
TZOFFSETTO:+0000
TZNAME:UTC
DTSTART:20240101T000000
END:STANDARD
END:VTIMEZONE
BEGIN:VEVENT
DTSTART;TZID=UTC:20250621T113000
DTEND;TZID=UTC:20250621T160000
DTSTAMP:20260420T121858
CREATED:20250513T191230Z
LAST-MODIFIED:20250514T141525Z
UID:458-1750505400-1750521600@drbrijeshkumar.com
SUMMARY:IITR 2025 Annual Event
DESCRIPTION:IITR East Coast Alumni Event \n\n\n\n\n\n\n\n\n		\n		RegisterRegister\n\n		\n\n	\n\n		\n		\n		\n		\n			\n			\n	\n\n		First Name*\n		\n				\n						\n\n\n\n		Last Name*\n		\n				\n						\n\n\n\n		Email*\n		\n				\n						\n\n\n\n		Phone*\n		\n				\n						\n\n\n\n		Degree\, Branch & Year of Graduation (BE\, EC\, 1980)*\n		\n				\n						\n\n\n\n		Your US Address (Town \, State)*\n		\n				\n						\n\n\n\n		Number of Additional Participants - Add Names (for Name badge) & Age (if child) Please\n		\n				\n						\n\n\n\n		Payment Method Details (Zelle\, Paypal\, Venmo and Check Number)*\n		\n				\n						\n\n\n		\n\n		\n			Comments\n			\n				\n				If you are a human\, do not fill in this field
URL:http://drbrijeshkumar.com/event/iitr-2025-annual-event
LOCATION:Kings Palace Banquet Hall\, 1673 Oak Tree Rd\, Edison\, New Jersey\, 08830\, United States
ORGANIZER;CN="Brijesh Kumar":MAILTO:brijesh_kumar@hotmail.com
END:VEVENT
BEGIN:VEVENT
DTSTART;TZID=UTC:20240616T110000
DTEND;TZID=UTC:20240616T163000
DTSTAMP:20260420T121858
CREATED:20240508T190053Z
LAST-MODIFIED:20250510T170217Z
UID:238-1718535600-1718555400@drbrijeshkumar.com
SUMMARY:IITR East Coast Reunion 2025
DESCRIPTION:Sunday\, June 16\, 2025\, 11:30 am to 4:00 pm\nKings Palace Banquet Hall1673 Oak Tree Rd\, Edison\, NJ 08820\n$55 per attendee (4-12 years old $30)\n                                                   Early Bird Price $50.00 up to June 5th (12:00 EST) / $60 On Gates\n                                                     \n                                                    \n\nProgram (Tentative)\n11:30 AM: Registration and Networking (30 min) \n11:55 AM: Welcome and Opening Remarks (15 min) \n12:00 AM: Open Forum on North East Chapter Present & Future (30 min) \n12:15 PM: Alumni Memory Lane (15 min) \n12:30 PM: Lunch Break and Networking (1 hr. & 30 min) \n2:00 PM: Sponsors Showcase (15 min) \n2:15 PM: Alumni Talks/ Party Time (1hr. & 30 min) \n3:00 PM: Open Dance Floor (1 hrs.) \n3:45 PM: Raffle Draw\, Closing Remarks and Farewell (15 min) \n\nPayment Options\nRegistration is not complete without payment. \nPlease mark all payments as “personal transfer” to avoid any transfer fees/taxes. \nRegistration may close once hall capacity is reached. Register Now! \nZelle Transfer\n \nPayPal to brijesh_kumar@hotmail.com ( add paypal cost)\nVenmo to @Anshul-Gupta-24  OR 717-307-8706\nCheck Payment\nPlease contact (Call/SMS): Charan Singh\, E&C 1985 (609-457-2958); Brijesh Kumar\, E&C 1981 (609-439-9060); Gunjan Mishra\, Met 1998 (908-848-0262) \n\nOur Official Airline Partner\nOur Corporate Sponsors\n \nOur Individual Sponsors\nNandini Singh (spouse of Charan Singh – E&C 1985) \n 
URL:http://drbrijeshkumar.com/event/reunion2025
LOCATION:King Palace Banquet Hall\, 1673 Oak Tree Rd\, Edison\, NJ\, 08830\, United States
ORGANIZER;CN="IITR - Team":MAILTO:iitr-event@drbrijeshkumar.com
END:VEVENT
END:VCALENDAR